Workbook

Sheet Исходный
H1: ПРАЙС от 29.09.2026 г.
B7: г.Пятигорск, Черкесское шоссе, д.27Б, Тел: 8(938) 653-1111 отдел продаж e-mail: ovikom26@gmail.com сайт: www.ovikom26.ru
B9: ВНИМАНИЕ! Для определения уровня цены, необходимо прописать курс ДОЛЛАРА и ЕВРО по курсу ЦБ, также заполните ячейку "скидка", размер скидки уточняйте у Вашего менеджера. | G9: Доллар | H9: Евро | I9: Скидка
G10: 0 | H10: 0 | I10: 0
B11: КОНДИЦИОНИРОВАНИЕ
B12: Расходные материалы
B13: Кондиционеры Berlington
B14: Кондиционеры FeRRUM
B15: Кондиционеры FeRRUM полупром
B16: Кондиционеры FeRRUM полупром Инвертор
B17: Кондиционеры FeRRUM Мульти-Сплит инвертор
B18: Кондиционеры LORIOT
B19: Кондиционеры ENERGOLUX
B20: Кондиционеры ENERGOLUX полупром
B21: Кондиционеры ENERGOLUX полупром Инвертор
B22: Кондиционеры ENERGOLUX MULTI
... B39: Жироуловитель сетчатый DIVT

Sheet Расходные материалы конд.
A2: Расходка
I8: Доллар | J8: Евро | K8: Скидка
C9: В Исходный прайс | I9: =Исходный!G10 -> 0 | J9: =Исходный!H10 -> 0 | K9: =Исходный!I10 -> 0
A10: Наименование | B10: Марка | C10: Модель | E10: Хар-ки | G10: Кол-во | H10: Розница | K10: Со скидкой | L10: Итого Рубли
D11: Ед. изм. | E11: Холод | F11: Тепло | H11: ДОЛЛАР | I11: ЕВРО | J11: РУБЛИ | K11: Рубли
A12: Хладон
A13: Фреон | C13: R-22 (13,6 кг) | D13: бал. | G13: 1 | J13: 36120 | K13: =J13-J13*$K$9/100 -> 36120 | L13: =K13*G13 -> 36120
A14: Фреон | C14: R-410 (11,3 кг) | D14: бал. | G14: 1 | J14: 35000 | K14: =J14-J14*$K$9/100 -> 35000 | L14: =K14*G14 -> 35000
A15: Фреон | C15: R-32 (9,5 кг) | D15: бал. | G15: 1 | J15: 19900 | K15: =J15-J15*$K$9/100 -> 19900 | L15: =K15*G15 -> 19900
A16: Труба медная
A17: Труба медная | C17: 1/4" (6,35*0,60) | D17: бух. | G17: 1 | J17: 4760 | K17: =J17-J17*$K$9/100 -> 4760 | L17: =K17*G17 -> 4760
A18: Труба медная | B18: PROF | C18: 1/4" (6,35*0,61) | D18: бух. | G18: 1 | J18: 4760 | K18: =J18-J18*$K$9/100 -> 4760 | L18: =K18*G18 -> 4760
A19: Труба медная | B19: PROF | C19: 3/8" (9,52*0,65) | D19: бух. | G19: 1 | J19: 7800 | K19: =J19-J19*$K$9/100 -> 7800 | L19: =K19*G19 -> 7800
A20: Труба медная | B20: PROF | C20: 1/2" (12,7*0,70) | D20: бух. | G20: 1 | J20: 11300 | K20: =J20-J20*$K$9/100 -> 11300 | L20: =K20*G20 -> 11300
A21: Труба медная | B21: PROF | C21: 5/8" (15,88*0,70) | D21: бух. | G21: 1 | J21: 15400 | K21: =J21-J21*$K$9/100 -> 15400 | L21: =K21*G21 -> 15400
A22: Труба медная | C22: 5/8" (15,88*0,75) | D22: бух. | G22: 1 | J22: 15400 | K22: =J22-J22*$K$9/100 -> 15400 | L22: =K22*G22 -> 15400
A23: Труба медная | B23: PROF | C23: 3/4" (19,05*0,80) | D23: бух. | G23: 1 | J23: 21800 | K23: =J23-J23*$K$9/100 -> 21800 | L23: =K23*G23 -> 21800
A24: Труба медная Увеличенная стенка
A25: Труба медная | B25: ST | C25: 1/4" (6,35*0,76) | D25: бух. | G25: 1 | J25: 6600 | K25: =J25-J25*$K$9/100 -> 6600 | L25: =K25*G25 -> 6600
A26: Труба медная | B26: ST | C26: 3/8" (9,52*0,80) | D26: бух. | G26: 1 | J26: 10400 | K26: =J26-J26*$K$9/100 -> 10400 | L26: =K26*G26 -> 10400
A27: Труба медная | C27: 3/8" (9,52*0,81) | D27: бух. | G27: 1 | J27: 10400 | K27: =J27-J27*$K$9/100 -> 10400 | L27: =K27*G27 -> 10400
A28: Труба медная | B28: ST | C28: 1/2" (12,7*0,80) | D28: бух. | G28: 1 | J28: 14100 | K28: =J28-J28*$K$9/100 -> 14100 | L28: =K28*G28 -> 14100
A29: Труба медная | C29: 1/2" (12,7*0,81) | D29: бух. | G29: 1 | J29: 14100 | K29: =J29-J29*$K$9/100 -> 14100 | L29: =K29*G29 -> 14100
A30: Труба медная | B30: ST | C30: 5/8" (15,88*0,89) | D30: бух. | G30: 1 | J30: 20800 | K30: =J30-J30*$K$9/100 -> 20800 | L30: =K30*G30 -> 20800
A31: Труба медная | B31: ST | C31: 3/4" (19,05*0,89) | D31: бух. | G31: 1 | J31: 24100 | K31: =J31-J31*$K$9/100 -> 24100 | L31: =K31*G31 -> 24100
A32: Кронштейн
A33: Кронштейн | C33: 415*450 | D33: пара | G33: 1 | J33: 742 | K33: =J33-J33*$K$9/100 -> 742 | L33: =K33*G33 -> 742
A34: Кронштейн | C34: 400*450.2, | D34: пара | G34: 1 | J34: 742 | K34: =J34-J34*$K$9/100 -> 742 | L34: =K34*G34 -> 742
A35: Кронштейн | C35: 420*500.2 | D35: пара | G35: 1 | J35: 1100 | K35: =J35-J35*$K$9/100 -> 1100 | L35: =K35*G35 -> 1100
A36: Кронштейн | C36: 500*600.2,0 | D36: пара | G36: 1 | J36: 1388 | K36: =J36-J36*$K$9/100 -> 1388 | L36: =K36*G36 -> 1388
A37: Кронштейн | C37: 500*600.2,5 | D37: пара | G37: 1 | J37: 1900 | K37: =J37-J37*$K$9/100 -> 1900 | L37: =K37*G37 -> 1900
A38: Кронштейн | C38: 800*800.3,0 | D38: пара | G38: 1 | J38: 3600 | K38: =J38-J38*$K$9/100 -> 3600 | L38: =K38*G38 -> 3600
A39: Комплект демпферов "Прокладка" | C39: R-45 | D39: пара | G39: 1 | J39: 210 | K39: =J39-J39*$K$9/100 -> 210 | L39: =K39*G39 -> 210
A40: Энергофлекс
A41: Энергофлекс в уп. 800 м | B41: Изоком | C41: 6/6 (2м) | D41: шт | G41: 1 | J41: 18 | K41: =J41-J41*$K$9/100 -> 18 | L41: =K41*G41 -> 18
A42: Энергофлекс в уп. 640 м | B42: Изоком | C42: 10/6 (2м) | D42: шт | G42: 1 | J42: 22.25 | K42: =J42-J42*$K$9/100 -> 22.25 | L42: =K42*G42 -> 22.25
A43: Энергофлекс в уп. 480 м | B43: Изоком | C43: 12/6 (2м) | D43: шт | G43: 1 | J43: 23.75 | K43: =J43-J43*$K$9/100 -> 23.75 | L43: =K43*G43 -> 23.75
A44: Энергофлекс в уп. 452 м | B44: Изоком | C44: 15/6 (2м) | D44: шт | G44: 1 | J44: 28 | K44: =J44-J44*$K$9/100 -> 28 | L44: =K44*G44 -> 28
A45: Энергофлекс в уп. 360 м | B45: Изоком | C45: 18/6 (2м) | D45: шт | G45: 1 | J45: 34 | K45: =J45-J45*$K$9/100 -> 34 | L45: =K45*G45 -> 34
A46: Трубка K-FLEX FRIGO (простая)
...

Sheet Расходные материалы вентиляция
A2: Расходный материал для монтажа Вентиляции
I8: Доллар | J8: Евро | K8: Скидка
C9: В Исходный прайс | I9: =Исходный!G10 -> 0 | J9: =Исходный!H10 -> 0 | K9: =Исходный!I10 -> 0
A10: Наименование | B10: Марка | C10: Модель | E10: Хар-ки | G10: Кол-во | H10: Розница | K10: Со скидкой | L10: Итого Рубли
D11: Ед. Изм | E11: Холод | F11: Тепло | H11: ДОЛЛАР | I11: ЕВРО | J11: РУБЛИ | K11: Рубли
A12: Крепежный материал
A13: Болт оцинкованный | C13: М8*25 (10 шт-132 гр) | D13: кг | G13: 1 | J13: 312 | K13: =J13-J13*$K$9/100 -> 312 | L13: =K13*G13 -> 312
A14: Болт оцинкованный | C14: М10*30 | D14: кг | G14: 1 | J14: 430 | K14: =J14-J14*$K$9/100 -> 430 | L14: =K14*G14 -> 430
A15: Гайка шестигранная, оцинкованная | C15: М8 (10 шт - 44 гр) | D15: кг | G15: 1 | J15: 312 | K15: =J15-J15*$K$9/100 -> 312 | L15: =K15*G15 -> 312
A16: Гайка шестигранная, оцинкованная | C16: М10 | D16: кг | G16: 1 | J16: 352 | K16: =J16-J16*$K$9/100 -> 352 | L16: =K16*G16 -> 352
A17: Шайба увеличенная | C17: М8 (10 шт - 55 гр) | D17: кг | G17: 1 | J17: 312 | K17: =J17-J17*$K$9/100 -> 312 | L17: =K17*G17 -> 312
A18: Шайба увеличенная | C18: М10(10шт-112гр) | D18: кг | G18: 1 | J18: 352 | K18: =J18-J18*$K$9/100 -> 352 | L18: =K18*G18 -> 352
A19: Гайка удлиненная, оцинкованная | C19: М8 | D19: шт | G19: 1 | J19: 12 | K19: =J19-J19*$K$9/100 -> 12 | L19: =K19*G19 -> 12
A20: Скоба | C20: 30*2 | D20: шт | G20: 1 | J20: 16 | K20: =J20-J20*$K$9/100 -> 16 | L20: =K20*G20 -> 16
A21: Струбцина | C21: М8 | D21: шт | G21: 1 | J21: 102 | K21: =J21-J21*$K$9/100 -> 102 | L21: =K21*G21 -> 102
A22: Саморез с прессшайбой сверло (кг) | C22: 4,2*13 (1000 шт =1,7 кг) | D22: кг | G22: 1 | J22: 480 | K22: =J22-J22*$K$9/100 -> 480 | L22: =K22*G22 -> 480
A23: Саморез с прессшайбой сверло (кг) | C23: 4,2*16 (1000 шт = 1,8 кг) | D23: кг | G23: 1 | J23: 480 | K23: =J23-J23*$K$9/100 -> 480 | L23: =K23*G23 -> 480
A24: Саморез с прессшайбой острые (кг) | C24: 4,2*13 (1000 шт = 1,29 кг) | D24: кг | G24: 1 | J24: 450 | K24: =J24-J24*$K$9/100 -> 450 | L24: =K24*G24 -> 450
... A40: Лента перфорированная оцинкованная | C40: 20*0,7 | D40: шт | G40: 1 | J40: 900 | K40: =J40-J40*$K$9/100 -> 900 | L40: =K40*G40 -> 900
A41: Хомуты
A42: Хомут для воздуховодов с рез. Профилем | C42: 100 мм | D42: шт | G42: 1 | J42: 93 | K42: =J42-J42*$K$9/100 -> 93 | L42: =K42*G42 -> 93
A43: Хомут для воздуховодов с рез. Профилем | C43: 125 мм | D43: шт | G43: 1 | J43: 95 | K43: =J43-J43*$K$9/100 -> 95 | L43: =K43*G43 -> 95
A44: Хомут для воздуховодов с рез. Профилем | C44: 160 мм | D44: шт | G44: 1 | J44: 130 | K44: =J44-J44*$K$9/100 -> 130 | L44: =K44*G44 -> 130
A45: Хомут для воздуховодов с рез. Профилем | C45: 200 мм | D45: шт | G45: 1 | J45: 160 | K45: =J45-J45*$K$9/100 -> 160 | L45: =K45*G45 -> 160
A46: Хомут для воздуховодов с рез. Профилем | C46: 250 мм | D46: шт | G46: 1 | J46: 220 | K46: =J46-J46*$K$9/100 -> 220 | L46: =K46*G46 -> 220
A47: Хомут для воздуховодов с рез. Профилем | C47: 315 мм | D47: шт | G47: 1 | J47: 250 | K47: =J47-J47*$K$9/100 -> 250 | L47: =K47*G47 -> 250
A48: Хомут для воздуховодов с рез. Профилем | C48: 355 мм | D48: шт | G48: 1 | J48: 400 | K48: =J48-J48*$K$9/100 -> 400 | L48: =K48*G48 -> 400
A49: Хомут для воздуховодов с рез. Профилем | C49: 400 мм | D49: шт | G49: 1 | J49: 600 | K49: =J49-J49*$K$9/100 -> 600 | L49: =K49*G49 -> 600
A50: Ленты изоляционные
A51: Скотч монтажный алюминиевый | C51: 50*50 | D51: шт | G51: 1 | J51: 350 | K51: =J51-J51*$K$9/100 -> 350 | L51: =K51*G51 -> 350
A52: Скотч монтажный алюминиевый | C52: 75 | D52: шт | G52: 1 | J52: 510 | K52: =J52-J52*$K$9/100 -> 510 | L52: =K52*G52 -> 510
A53: Скотч монтажный алюминиевый | C53: 100 | D53: шт | G53: 1 | J53: 650 | K53: =J53-J53*$K$9/100 -> 650 | L53: =K53*G53 -> 650
A54: Скотч монтажный армированный | C54: 50*50 | D54: шт | G54: 1 | J54: 300 | K54: =J54-J54*$K$9/100 -> 300 | L54: =K54*G54 -> 300
A55: Лента уплотнительная | C55: 20*5 | D55: шт | G55: 1 | J55: 220 | K55: =J55-J55*$K$9/100 -> 220 | L55: =K55*G55 -> 220
A56: Лента уплотнительная | C56: 15*5 | D56: шт | G56: 1 | J56: 150 | K56: =J56-J56*$K$9/100 -> 150 | L56: =K56*G56 -> 150
A57: Лента уплотнительная | C57: 10*5 | D57: шт | G57: 1 | J57: 0 | K57: =J57-J57*$K$9/100 -> 0 | L57: =K57*G57 -> 0
A58: Пенофол | C58: С-05 (18 м2) | D58: рул. | G58: 1 | J58: 6880 | K58: =J58-J58*$K$9/100 -> 6880 | L58: =K58*G58 -> 6880
A59: Пенофол | C59: С-10 (9м2) | D59: рул. | G59: 1 | J59: 4960 | K59: =J59-J59*$K$9/100 -> 4960 | L59: =K59*G59 -> 4960
A60: Лента Пенофол | C60: С-03 | D60: рул. | G60: 1 | J60: 480 | K60: =J60-J60*$K$9/100 -> 480 | L60: =K60*G60 -> 480
A61: Лента Огнезащитная | C61: БАЛТИКА-ЛПТ 2*20 (20м) | D61: рул. | G61: 1 | J61: 2900 | K61: =J61-J61*$K$9/100 -> 2900 | L61: =K61*G61 -> 2900
...

Sheet Воздухораспределит. устр.
A2: Воздухораспределительные устройства
I8: Доллар | J8: Евро | K8: Скидка
C9: В Исходный прайс | I9: =Исходный!G10 -> 0 | J9: =Исходный!H10 -> 0 | K9: =Исходный!I10 -> 0
A10: Наименование | B10: Марка | C10: Модель | E10: Хар-ки | G10: Кол-во | H10: Розница | K10: Со скидкой | L10: Итого Рубли
D11: Ед. изм | E11: Холод | F11: Тепло | H11: ДОЛЛАР | I11: ЕВРО | J11: РУБЛИ | K11: Рубли
A12: Диффузоры круглые для применения в вытяжных системах вентиляции
A13: Диффузор вытяжной белый металлический | C13: 100 мм | D13: шт | G13: 1 | J13: 400 | K13: =J13-J13*$K$9/100 -> 400 | L13: =K13*G13 -> 400
A14: Диффузор вытяжной белый металлический | C14: 125 мм | D14: шт | G14: 1 | J14: 560 | K14: =J14-J14*$K$9/100 -> 560 | L14: =K14*G14 -> 560
A15: Диффузор вытяжной белый металлический | C15: 160 мм | D15: шт | G15: 1 | J15: 760 | K15: =J15-J15*$K$9/100 -> 760 | L15: =K15*G15 -> 760
A16: Диффузор вытяжной белый металлический | C16: 200 мм | D16: шт | G16: 1 | J16: 1000 | K16: =J16-J16*$K$9/100 -> 1000 | L16: =K16*G16 -> 1000
A17: Диффузор вытяжной белый металлический | C17: 250 мм | D17: шт | G17: 1 | J17: 1260 | K17: =J17-J17*$K$9/100 -> 1260 | L17: =K17*G17 -> 1260
A18: Диффузоры круглые для применения в приточных системах вентиляции
A19: Диффузор приточный белый металлический | C19: 100 мм | D19: шт | G19: 1 | J19: 400 | K19: =J19-J19*$K$9/100 -> 400 | L19: =K19*G19 -> 400
A20: Диффузор приточный белый металлический | C20: 125 мм | D20: шт | G20: 1 | J20: 560 | K20: =J20-J20*$K$9/100 -> 560 | L20: =K20*G20 -> 560
A21: Диффузор приточный белый металлический | C21: 160 мм | D21: шт | G21: 1 | J21: 760 | K21: =J21-J21*$K$9/100 -> 760 | L21: =K21*G21 -> 760
A22: Диффузор приточный белый металлический | C22: 200 мм | D22: шт | G22: 1 | J22: 1000 | K22: =J22-J22*$K$9/100 -> 1000 | L22: =K22*G22 -> 1000
A23: Диффузор приточный белый металлический | C23: 250 мм | D23: шт | G23: 1 | J23: 1260 | K23: =J23-J23*$K$9/100 -> 1260 | L23: =K23*G23 -> 1260
A24: Диффузоры квадратные потолочные
A25: Диффузор квадратный белый | C25: 300*300 | D25: шт | G25: 1 | J25: 1700 | K25: =J25-J25*$K$9/100 -> 1700 | L25: =K25*G25 -> 1700
A26: Диффузор квадратный белый | C26: 450*450 | D26: шт | G26: 1 | J26: 2620 | K26: =J26-J26*$K$9/100 -> 2620 | L26: =K26*G26 -> 2620
A27: Диффузор квадратный белый | C27: 600*600 | D27: шт | G27: 1 | J27: 4360 | K27: =J27-J27*$K$9/100 -> 4360 | L27: =K27*G27 -> 4360
A28: Клапан АЗД
A29: Клапан АЗД | B29: DIVT | C29: 100 | D29: шт | G29: 1 | J29: 580 | K29: =J29-J29*$K$9/100 -> 580 | L29: =K29*G29 -> 580
A30: Клапан АЗД | B30: DIVT | C30: 125 | D30: шт | G30: 1 | J30: 660 | K30: =J30-J30*$K$9/100 -> 660 | L30: =K30*G30 -> 660
A31: Клапан АЗД | B31: DIVT | C31: 160 | D31: шт | G31: 1 | J31: 770 | K31: =J31-J31*$K$9/100 -> 770 | L31: =K31*G31 -> 770
A32: Клапан АЗД | B32: DIVT | C32: 200 | D32: шт | G32: 1 | J32: 900 | K32: =J32-J32*$K$9/100 -> 900 | L32: =K32*G32 -> 900
A33: Клапан АЗД | B33: DIVT | C33: 250 | D33: шт | G33: 1 | J33: 1060 | K33: =J33-J33*$K$9/100 -> 1060 | L33: =K33*G33 -> 1060
A34: Клапан АЗД | B34: DIVT | C34: 315 | D34: шт | G34: 1 | J34: 1280 | K34: =J34-J34*$K$9/100 -> 1280 | L34: =K34*G34 -> 1280
A35: Клапан АЗД | B35: DIVT | C35: 200*200 | D35: шт | G35: 1 | J35: 2020 | K35: =J35-J35*$K$9/100 -> 2020 | L35: =K35*G35 -> 2020
A36: Клапан АЗД | B36: DIVT | C36: 250*250 | D36: шт | G36: 1 | J36: 2380 | K36: =J36-J36*$K$9/100 -> 2380 | L36: =K36*G36 -> 2380
A37: Клапан АЗД | B37: DIVT | C37: 300*300 | D37: шт | G37: 1 | J37: 2740 | K37: =J37-J37*$K$9/100 -> 2740 | L37: =K37*G37 -> 2740
A38: Клапан АЗД | B38: DIVT | C38: 350*350 | D38: шт | G38: 1 | J38: 3100 | K38: =J38-J38*$K$9/100 -> 3100 | L38: =K38*G38 -> 3100
A39: Клапан АЗД | B39: DIVT | C39: 400*400 | D39: шт | G39: 1 | J39: 3620 | K39: =J39-J39*$K$9/100 -> 3620 | L39: =K39*G39 -> 3620
A40: Клапан АЗД | B40: DIVT | C40: 450*450 | D40: шт | G40: 1 | J40: 4000 | K40: =J40-J40*$K$9/100 -> 4000 | L40: =K40*G40 -> 4000
A41: Клапан АЗД | B41: DIVT | C41: 500*500 | D41: шт | G41: 1 | J41: 4380 | K41: =J41-J41*$K$9/100 -> 4380 | L41: =K41*G41 -> 4380
A42: * Внимание!!! ОВИКОМ оставляет за собой право вносить изменение в данный прайс без уведомления клиента!!!
A44: Контактные координаты: Центр Инженерных Решений "ОВИКОМ" г.Пятигорск, Черкесское шоссе, д.27Б 8(938)-653-11-11 отдел продаж e-mail: ovikom26@gmail.com сайт: www.ovikom26.ru

Sheet Berlington
I8: Доллар | J8: Евро | K8: Скидка
C9: В Исходный прайс | I9: =Исходный!G10 -> 0 | J9: =Исходный!H10 -> 0 | K9: =Исходный!I10 -> 0
A10: Наименование | B10: Марка | C10: Модель | E10: Хар-ки | G10: Кол-во | H10: Розница | K10: Со скидкой | L10: Итого Рубли
D11: Ед. изм. | E11: Холод | F11: Тепло | H11: ДОЛЛАР | I11: ЕВРО | J11: РУБЛИ | K11: Рубли
A12: Серия MANCHESTER | C12: Сплит-система настенного типа R410 (On/Off) охлаждение-нагрев. WI-FI (опция) | L12: =K12*G12 -> 0
A13: Кондиционер настенный | B13: Berlington | C13: BR-07MBST1M/IN-BR-07MBST1M/OUT | D13: шт | E13: 2.25 | F13: 2.3 | G13: 1 | J13: 28000 | K13: =J13-J13*$K$9/100 -> 28000 | L13: =K13*G13 -> 28000
A14: Кондиционер настенный | B14: Berlington | C14: BR-09MBST1M/IN-BR-09MBST1M/OUT | D14: шт | E14: 2.81 | F14: 2.86 | G14: 1 | J14: 31700 | K14: =J14-J14*$K$9/100 -> 31700 | L14: =K14*G14 -> 31700
A15: Кондиционер настенный | B15: Berlington | C15: BR-12MBST1M/IN-BR-12MBST1M/OUT | D15: шт | E15: 3.67 | F15: 3.72 | G15: 1 | J15: 45600 | K15: =J15-J15*$K$9/100 -> 45600 | L15: =K15*G15 -> 45600
A16: Кондиционер настенный | B16: Berlington | C16: BR-18MBST1M/IN-BR-18MBST1M/OUT | D16: шт | E16: 5.41 | F16: 5.64 | G16: 1 | J16: 71500 | K16: =J16-J16*$K$9/100 -> 71500 | L16: =K16*G16 -> 71500
A17: Кондиционер настенный | B17: Berlington | C17: BR-24MBST1M/IN-BR-24MBST1M/OUT | D17: шт | E17: 7.1 | F17: 7.38 | G17: 1 | J17: 88800 | K17: =J17-J17*$K$9/100 -> 88800 | L17: =K17*G17 -> 88800
A18: Кондиционер настенный | B18: Berlington | C18: BR-36MBST1M/IN-BR-36MBST1M/OUT | D18: шт | E18: 10.5 | F18: 10.2 | G18: 1 | J18: 0 | K18: =J18-J18*$K$9/100 -> 0 | L18: =K18*G18 -> 0
A19: Серия MANCHESTER INVERTER | C19: INVERTER Сплит-система настенного типа R410 | L19: =K19*G19 -> 0
A20: Кондиционер настенный | B20: Berlington | C20: BR-07MBIN1M/IN-BR-07MBIN1M/OUT | D20: шт | E20: 2.25 | F20: 2.35 | G20: 1 | J20: 0 | K20: =J20-J20*$K$9/100 -> 0 | L20: =K20*G20 -> 0
A21: Кондиционер настенный | B21: Berlington | C21: BR-09MBIN1M/IN-BR-09MBIN1M/OUT | D21: шт | E21: 2.75 | F21: 2.86 | G21: 1 | J21: 47600 | K21: =J21-J21*$K$9/100 -> 47600 | L21: =K21*G21 -> 47600
A22: Кондиционер настенный | B22: Berlington | C22: BR-12MBIN1M/IN-BR-12MBIN1M/OUT | D22: шт | E22: 3.65 | F22: 3.71 | G22: 1 | J22: 49600 | K22: =J22-J22*$K$9/100 -> 49600 | L22: =K22*G22 -> 49600
A23: Кондиционер настенный | B23: Berlington | C23: BR-18MBIN1M/IN-BR-18MBIN1M/OUT | D23: шт | E23: 5.4 | F23: 6.38 | G23: 1 | J23: 77700 | K23: =J23-J23*$K$9/100 -> 77700 | L23: =K23*G23 -> 77700
A24: Кондиционер настенный | B24: Berlington | C24: BR-24MBIN1M/IN-BR-24MBIN1M/OUT | D24: шт | E24: 7.15 | F24: 7.2 | G24: 1 | J24: 0 | K24: =J24-J24*$K$9/100 -> 0 | L24: =K24*G24 -> 0
A25: * Внимание!!! ОВИКОМ оставляет за собой право вносить изменение в данный прайс без уведомления клиента!!!
A27: Контактные координаты: Центр Инженерных Решений "ОВИКОМ" г.Пятигорск, Черкесское шоссе, д.27Б 8(938)-653-11-11 отдел продаж e-mail: ovikom26@gmail.com сайт: www.ovikom26.ru

Sheet FeRRUM
I8: Доллар | J8: Евро | K8: Скидка
C9: В Исходный прайс | I9: =Исходный!G10 -> 0 | J9: =Исходный!H10 -> 0 | K9: =Исходный!I10 -> 0
A10: Наименование | B10: Марка | C10: Модель | E10: Хар-ки | G10: Кол-во | H10: Розница | K10: Со скидкой | L10: Итого Рубли
D11: Ед. изм. | E11: Холод | F11: Тепло | H11: ДОЛЛАР | I11: ЕВРО | J11: РУБЛИ | K11: Рубли
A12: Серия | C12: Сплит-система настенного типа R410 (On/Off) охлаждение-нагрев. Класс А. | L12: =K12*G12 -> 0
A13: Кондиционер настенный | B13: FeRRUM | C13: FIS30A1/FOS30A1 | D13: шт | E13: 7.9 | F13: 7.6 | G13: 1 | J13: 140600 | K13: =J13-J13*$K$9/100 -> 140600 | L13: =K13*G13 -> 140600
A14: Серия | C14: INVERTER Сплит-система настенного типа R410 охлаждение-нагрев. Класс А. | L14: =K14*G14 -> 0
A15: Кондиционер настенный | B15: FeRRUM | C15: iFIS24A1/iFOS24A1 | D15: шт | E15: 6.7 | F15: 6.8 | G15: 1 | J15: 128200 | K15: =J15-J15*$K$9/100 -> 128200 | L15: =K15*G15 -> 128200
A16: Серия FORCE | C16: Сплит-система настенного типа R32 (On/Off) охлаждение-нагрев. Класс А. Завод Midea | L16: =K16*G16 -> 0
A17: Кондиционер настенный | B17: FeRRUM | C17: FIS07F2/FOS07F2 | D17: шт | E17: 2.53 | F17: 2.48 | G17: 1 | J17: 33500 | K17: =J17-J17*$K$9/100 -> 33500 | L17: =K17*G17 -> 33500
A18: Кондиционер настенный | B18: FeRRUM | C18: FIS09F2/FOS09F2 | D18: шт | E18: 2.639 | F18: 2.639 | G18: 1 | J18: 36200 | K18: =J18-J18*$K$9/100 -> 36200 | L18: =K18*G18 -> 36200
A19: Кондиционер настенный | B19: FeRRUM | C19: FIS12F2/FOS12F2 | D19: шт | E19: 3.52 | F19: 3.66 | G19: 1 | J19: 46400 | K19: =J19-J19*$K$9/100 -> 46400 | L19: =K19*G19 -> 46400
A20: Кондиционер настенный | B20: FeRRUM | C20: FIS18F2/FOS18F2 | D20: шт | E20: 5.28 | F20: 5.57 | G20: 1 | J20: 88300 | K20: =J20-J20*$K$9/100 -> 88300 | L20: =K20*G20 -> 88300
A21: Кондиционер настенный | B21: FeRRUM | C21: FIS24F2/FOS24F2 | D21: шт | E21: 7.03 | F21: 7.33 | G21: 1 | J21: 101800 | K21: =J21-J21*$K$9/100 -> 101800 | L21: =K21*G21 -> 101800
A22: Серия FORCE PRO | C22: Сплит-система настенного типа R32 (On/Off) охлаждение-нагрев. Класс А. Завод Midea | L22: =K22*G22 -> 0
A23: Кондиционер настенный | B23: FeRRUM | C23: FIS07F3/FOS07F3 | D23: шт | E23: 2.35 | F23: 2.35 | G23: 1 | J23: 35800 | K23: =J23-J23*$K$9/100 -> 35800 | L23: =K23*G23 -> 35800
A24: Кондиционер настенный | B24: FeRRUM | C24: FIS09F3/FOS09F3 | D24: шт | E24: 2.639 | F24: 2.79 | G24: 1 | J24: 38400 | K24: =J24-J24*$K$9/100 -> 38400 | L24: =K24*G24 -> 38400
A25: Кондиционер настенный | B25: FeRRUM | C25: FIS12F3/FOS12F3 | D25: шт | E25: 3.52 | F25: 3.72 | G25: 1 | J25: 52400 | K25: =J25-J25*$K$9/100 -> 52400 | L25: =K25*G25 -> 52400
A26: Кондиционер настенный | B26: FeRRUM | C26: FIS18F3/FOS18F3 | D26: шт | E26: 5.28 | F26: 5.57 | G26: 1 | J26: 85800 | K26: =J26-J26*$K$9/100 -> 85800 | L26: =K26*G26 -> 85800
A27: Кондиционер настенный | B27: FeRRUM | C27: FIS24F3/FOS24F3 | D27: шт | E27: 7.03 | F27: 7.33 | G27: 1 | J27: 107400 | K27: =J27-J27*$K$9/100 -> 107400 | L27: =K27*G27 -> 107400
A28: Серия TITAN | C28: Сплит-система настенного типа R410 (On/Off) охлаждение-нагрев. Класс А. Завод AUX | L28: =K28*G28 -> 0
A29: Кондиционер настенный | B29: FeRRUM | C29: FIS07VR1/FOS07VR1 | D29: шт | E29: 2.1 | F29: 2.2 | G29: 1 | J29: 31600 | K29: =J29-J29*$K$9/100 -> 31600 | L29: =K29*G29 -> 31600
A30: Кондиционер настенный | B30: FeRRUM | C30: FIS09VR1/FOS09VR1 | D30: шт | E30: 2.83 | F30: 2.85 | G30: 1 | J30: 34300 | K30: =J30-J30*$K$9/100 -> 34300 | L30: =K30*G30 -> 34300
A31: Кондиционер настенный | B31: FeRRUM | C31: FIS12VR1/FOS12VR1 | D31: шт | E31: 3.55 | F31: 3.65 | G31: 1 | J31: 44000 | K31: =J31-J31*$K$9/100 -> 44000 | L31: =K31*G31 -> 44000
A32: Кондиционер настенный | B32: FeRRUM | C32: FIS18VR1/FOS18VR1 | D32: шт | E32: 5.3 | F32: 5.4 | G32: 1 | J32: 76800 | K32: =J32-J32*$K$9/100 -> 76800 | L32: =K32*G32 -> 76800
A33: Кондиционер настенный | B33: FeRRUM | C33: FIS24VR1/FOS24VR1 | D33: шт | E33: 7.05 | F33: 7.2 | G33: 1 | J33: 95500 | K33: =J33-J33*$K$9/100 -> 95500 | L33: =K33*G33 -> 95500
A34: Кондиционер настенный | B34: FeRRUM | C34: FIS36VR1/FOS36VR1 | D34: шт | E34: 10 | F34: 10.1 | G34: 1 | J34: 133000 | K34: =J34-J34*$K$9/100 -> 133000 | L34: =K34*G34 -> 133000
A35: Серия FORCE INVERTER | C35: INVERTER Сплит-система настенного типа R32. Охлаждение-нагрев. Класс А++. Завод Midea | L35: =K35*G35 -> 0
A36: Кондиционер настенный | B36: FeRRUM | C36: IFIS09F2C/IFOS09F2C | D36: шт | E36: 2.64 | F36: 2.93 | G36: 1 | J36: 47600 | K36: =J36-J36*$K$9/100 -> 47600 | L36: =K36*G36 -> 47600
A37: Кондиционер настенный | B37: FeRRUM | C37: IFIS12F2C/IFOS12F2C | D37: шт | E37: 3.51 | F37: 3.81 | G37: 1 | J37: 55700 | K37: =J37-J37*$K$9/100 -> 55700 | L37: =K37*G37 -> 55700
A38: Кондиционер настенный | B38: FeRRUM | C38: IFIS18F2C/IFOS18F2C | D38: шт | E38: 5.27 | F38: 5.57 | G38: 1 | J38: 93600 | K38: =J38-J38*$K$9/100 -> 93600 | L38: =K38*G38 -> 93600
A39: Кондиционер настенный | B39: FeRRUM | C39: IFIS24F2C/IFOS24F2C | D39: шт | E39: 7.03 | F39: 7.33 | G39: 1 | J39: 113500 | K39: =J39-J39*$K$9/100 -> 113500 | L39: =K39*G39 -> 113500
A40: Серия FORCE PRO DC INVERTER | C40: INVERTER Сплит-система настенного типа R32. Охлаждение-нагрев. Класс А++. Завод Midea | L40: =K40*G40 -> 0
A41: Кондиционер настенный | B41: FeRRUM | C41: IFIS07F3C/IFOS07F3C | D41: шт | E41: 2.1 | F41: 2.4 | G41: 1 | J41: 44000 | K41: =J41-J41*$K$9/100 -> 44000 | L41: =K41*G41 -> 44000
A42: Кондиционер настенный | B42: FeRRUM | C42: IFIS09F3C/IFOS09F3C | D42: шт | E42: 2.7 | F42: 3 | G42: 1 | J42: 48500 | K42: =J42-J42*$K$9/100 -> 48500 | L42: =K42*G42 -> 48500
A43: Кондиционер настенный | B43: FeRRUM | C43: IFIS12F3C/IFOS12F3C | D43: шт | E43: 3.6 | F43: 3.9 | G43: 1 | J43: 58700 | K43: =J43-J43*$K$9/100 -> 58700 | L43: =K43*G43 -> 58700
A44: Кондиционер настенный | B44: FeRRUM | C44: IFIS18F3C/IFOS18F3C | D44: шт | E44: 5.3 | F44: 5.6 | G44: 1 | J44: 105700 | K44: =J44-J44*$K$9/100 -> 105700 | L44: =K44*G44 -> 105700
A45: Кондиционер настенный | B45: FeRRUM | C45: IFIS24F3C/IFOS24F3C | D45: шт | E45: 7.1 | F45: 7.4 | G45: 1 | J45: 131500 | K45: =J45-J45*$K$9/100 -> 131500 | L45: =K45*G45 -> 131500
A46: Серия TITAN INVERTER | C46: INVERTER Сплит-система настенного типа R32. Охлаждение-нагрев. Класс А++ Завод AUX | L46: =K46*G46 -> 0
A47: Кондиционер настенный | B47: FeRRUM | C47: IFIS07VR1/IFOS07VR1 | D47: шт | E47: 2.35 | F47: 2.4 | G47: 1 | J47: 42200 | K47: =J47-J47*$K$9/100 -> 42200 | L47: =K47*G47 -> 42200
...

Sheet FeRRUM полупром
I8: Доллар | J8: Евро | K8: Скидка
C9: В Исходный прайс | I9: =Исходный!G10 -> 0 | J9: =Исходный!H10 -> 0 | K9: =Исходный!I10 -> 0
A10: Наименование | B10: Марка | C10: Модель | E10: Хар-ки | G10: Кол-во | H10: Розница | K10: Со скидкой | L10: Итого Рубли
D11: Ед. изм. | E11: Холод | F11: Тепло | H11: ДОЛЛАР | I11: ЕВРО | J11: РУБЛИ | K11: Рубли
A12: Серия NEW | C12: NEW Сплит-система Кассетного типа R410 (On/Off) | L12: =K12*G12 -> 0
A13: Кондиционер кассетный | B13: FeRRUM | C13: FLCAC12C2_MR1/FLCAU12U2_MR1 | D13: шт | E13: 3.52 | F13: 3.96 | G13: 1 | J13: 84300 | K13: =J13-J13*$K$9/100 -> 84300 | L13: =K13*G13 -> 84300
A14: Кондиционер кассетный | B14: FeRRUM | C14: FLCAC18C2_MR1/FLCAU18U2_MR1 | D14: шт | E14: 5.28 | F14: 5.57 | G14: 1 | J14: 88400 | K14: =J14-J14*$K$9/100 -> 88400 | L14: =K14*G14 -> 88400
A15: Кондиционер кассетный | B15: FeRRUM | C15: FLCAC24C2_MR1/FLCAU24U2_MR1 | D15: шт | E15: 7.03 | F15: 7.62 | G15: 1 | J15: 114100 | K15: =J15-J15*$K$9/100 -> 114100 | L15: =K15*G15 -> 114100
A16: Кондиционер кассетный | B16: FeRRUM | C16: FLCAC36C2_MR1/FLCAU36U2_MR1 | D16: шт | E16: 10.55 | F16: 12.4 | G16: 1 | J16: 153900 | K16: =J16-J16*$K$9/100 -> 153900 | L16: =K16*G16 -> 153900
A17: Кондиционер кассетный | B17: FeRRUM | C17: FLCAC48C2_MR1/FLCAU48U2_MR1 | D17: шт | E17: 14.07 | F17: 16.3 | G17: 1 | J17: 193800 | K17: =J17-J17*$K$9/100 -> 193800 | L17: =K17*G17 -> 193800
A18: Кондиционер кассетный | B18: FeRRUM | C18: FLCAC60C2_MR1/FLCAU60U2_MR1 | D18: шт | E18: 16.12 | F18: 18.32 | G18: 1 | J18: 202000 | K18: =J18-J18*$K$9/100 -> 202000 | L18: =K18*G18 -> 202000
A19: Серия | C19: Сплит-система Кассетного типа R410 (On/Off) | L19: =K19*G19 -> 0
A20: Кондиционер кассетный | B20: FeRRUM | C20: LCAC12C1-A/LCAU12U1-A | D20: шт | E20: 3.52 | F20: 3.96 | G20: 1 | J20: 78200 | K20: =J20-J20*$K$9/100 -> 78200 | L20: =K20*G20 -> 78200
A21: Кондиционер кассетный | B21: FeRRUM | C21: LCAC18C1-A/LCAU18U1-A | D21: шт | E21: 5.28 | F21: 3.6 | G21: 1 | J21: 83000 | K21: =J21-J21*$K$9/100 -> 83000 | L21: =K21*G21 -> 83000
A22: Кондиционер кассетный | B22: FeRRUM | C22: LCAC24C1-A/LCAU24U1-A | D22: шт | E22: 7.03 | F22: 7.4 | G22: 1 | J22: 109900 | K22: =J22-J22*$K$9/100 -> 109900 | L22: =K22*G22 -> 109900
A23: Кондиционер кассетный | B23: FeRRUM | C23: LCAC36C1-A/LCAU36U1-A | D23: шт | E23: 10.55 | F23: 11.7 | G23: 1 | J23: 147700 | K23: =J23-J23*$K$9/100 -> 147700 | L23: =K23*G23 -> 147700
A24: Кондиционер кассетный | B24: FeRRUM | C24: LCAC48C1-A/LCAU48U1-A | D24: шт | E24: 14.07 | F24: 15.24 | G24: 1 | J24: 179100 | K24: =J24-J24*$K$9/100 -> 179100 | L24: =K24*G24 -> 179100
A25: Кондиционер кассетный | B25: FeRRUM | C25: LCAC60C1-A/LCAU60U1-A | D25: шт | E25: 16.12 | F25: 17.6 | G25: 1 | J25: 187200 | K25: =J25-J25*$K$9/100 -> 187200 | L25: =K25*G25 -> 187200
A26: Серия | C26: Сплит-система Канального типа R410 (On/Off) | L26: =K26*G26 -> 0
A27: Кондиционер канальный | B27: FeRRUM | C27: LCAD18D1-A/LCAU18U1-A | D27: шт | E27: 5.28 | F27: 5.6 | G27: 1 | J27: 80600 | K27: =J27-J27*$K$9/100 -> 80600 | L27: =K27*G27 -> 80600
A28: Кондиционер канальный | B28: FeRRUM | C28: LCAD24D1-A/LCAU24U1-A | D28: шт | E28: 7.03 | F28: 7.4 | G28: 1 | J28: 109100 | K28: =J28-J28*$K$9/100 -> 109100 | L28: =K28*G28 -> 109100
A29: Кондиционер канальный | B29: FeRRUM | C29: LCAD36D1-A/LCAU36U1-A | D29: шт | E29: 10.55 | F29: 11.7 | G29: 1 | J29: 148300 | K29: =J29-J29*$K$9/100 -> 148300 | L29: =K29*G29 -> 148300
A30: Кондиционер канальный | B30: FeRRUM | C30: LCAD48D1-A/LCAU48U1-A | D30: шт | E30: 14.07 | F30: 15.24 | G30: 1 | J30: 180200 | K30: =J30-J30*$K$9/100 -> 180200 | L30: =K30*G30 -> 180200
A31: Кондиционер канальный | B31: FeRRUM | C31: LCAD60D1-A/LCAU60U1-A | D31: шт | E31: 16.12 | F31: 17.6 | G31: 1 | J31: 193700 | K31: =J31-J31*$K$9/100 -> 193700 | L31: =K31*G31 -> 193700
A32: Серия | C32: NEW Сплит-система Напольно-Потолочного типа R410 (On/Off) | L32: =K32*G32 -> 0
A33: Кондиционер потолочный | B33: FeRRUM | C33: FLCACF24D2_MR1/FLCAU24U2_MR1 | D33: шт | E33: 7.03 | F33: 7.91 | G33: 1 | J33: 111100 | K33: =J33-J33*$K$9/100 -> 111100 | L33: =K33*G33 -> 111100
A34: Кондиционер потолочный | B34: FeRRUM | C34: FLCACF36D2_MR1/FLCAU36U2_MR1 | D34: шт | E34: 10.55 | F34: 12.31 | G34: 1 | J34: 156400 | K34: =J34-J34*$K$9/100 -> 156400 | L34: =K34*G34 -> 156400
A35: Кондиционер потолочный | B35: FeRRUM | C35: FLCACF48D2_MR1/FLCAU48U2_MR1 | D35: шт | E35: 14.07 | F35: 16.71 | G35: 1 | J35: 193500 | K35: =J35-J35*$K$9/100 -> 193500 | L35: =K35*G35 -> 193500
A36: Кондиционер потолочный | B36: FeRRUM | C36: FLCACF60D2_MR1/FLCAU60U2_MR1 | D36: шт | E36: 16.12 | F36: 18.17 | G36: 1 | J36: 219800 | K36: =J36-J36*$K$9/100 -> 219800 | L36: =K36*G36 -> 219800
A37: Серия | C37: Сплит-система Напольно-Потолочного типа R410 (On/Off) | L37: =K37*G37 -> 0
A38: Кондиционер потолочный | B38: FeRRUM | C38: LCACF18D1-A/LCAU18U1-A | D38: шт | E38: 5.28 | F38: 5.6 | G38: 1 | J38: 84400 | K38: =J38-J38*$K$9/100 -> 84400 | L38: =K38*G38 -> 84400
A39: Кондиционер потолочный | B39: FeRRUM | C39: LCACF24D1-A/LCAU24U1-A | D39: шт | E39: 7.03 | F39: 7.4 | G39: 1 | J39: 104700 | K39: =J39-J39*$K$9/100 -> 104700 | L39: =K39*G39 -> 104700
A40: Кондиционер потолочный | B40: FeRRUM | C40: LCACF36D1-A/LCAU36U1-A | D40: шт | E40: 10.55 | F40: 11.7 | G40: 1 | J40: 147400 | K40: =J40-J40*$K$9/100 -> 147400 | L40: =K40*G40 -> 147400
A41: Кондиционер потолочный | B41: FeRRUM | C41: LCACF48D1-A/LCAU48U1-A | D41: шт | E41: 14.07 | F41: 15.24 | G41: 1 | J41: 182400 | K41: =J41-J41*$K$9/100 -> 182400 | L41: =K41*G41 -> 182400
A42: Кондиционер потолочный | B42: FeRRUM | C42: LCACF60D1-A/LCAU60U1-A | D42: шт | E42: 16.12 | F42: 17.6 | G42: 1 | J42: 207100 | K42: =J42-J42*$K$9/100 -> 207100 | L42: =K42*G42 -> 207100
C43: Аксессуары | L43: =K43*G43 -> 0
A44: Проводной пульт управления для кассетных, напольно-потолочных и канальных конд | C44: SWC09A1-R | D44: шт | G44: 1 | J44: 10000 | K44: =J44-J44*$K$9/100 -> 10000 | L44: =K44*G44 -> 10000
A45: * Внимание!!! ОВИКОМ оставляет за собой право вносить изменение в данный прайс без уведомления клиента!!!
A47: Контактные координаты: Центр Инженерных Решений "ОВИКОМ" г.Пятигорск, Черкесское шоссе, д.27Б 8(938)-653-11-11 отдел продаж e-mail: ovikom26@gmail.com сайт: www.ovikom26.ru

Sheet FeRRUM полуп инвертор
I8: Доллар | J8: Евро | K8: Скидка
C9: В Исходный прайс | I9: =Исходный!G10 -> 0 | J9: =Исходный!H10 -> 0 | K9: =Исходный!I10 -> 0
A10: Наименование | B10: Марка | C10: Модель | E10: Хар-ки | G10: Кол-во | H10: Розница | K10: Со скидкой | L10: Итого Рубли
D11: Ед. изм. | E11: Холод | F11: Тепло | H11: ДОЛЛАР | I11: ЕВРО | J11: РУБЛИ | K11: Рубли
A12: Серия | C12: Сплит-система Кассетного типа ИНВЕРТОР R32 тепло/холод | L12: =K12*G12 -> 0
A13: Кондиционер кассетный | B13: FeRRUM | C13: LCAC12C3-AI/LCAU12U3-AI | D13: шт | E13: 3.52 | F13: 4 | G13: 1 | J13: 88700 | K13: =J13-J13*$K$9/100 -> 88700 | L13: =K13*G13 -> 88700
A14: Кондиционер кассетный | B14: FeRRUM | C14: LCAC18C3-AI/LCAU18U3-AI | D14: шт | E14: 5.3 | F14: 5.6 | G14: 1 | J14: 95800 | K14: =J14-J14*$K$9/100 -> 95800 | L14: =K14*G14 -> 95800
A15: Кондиционер кассетный | B15: FeRRUM | C15: LCAC24C3-AI/LCAU24U3-AI | D15: шт | E15: 7.03 | F15: 7.6 | G15: 1 | J15: 126600 | K15: =J15-J15*$K$9/100 -> 126600 | L15: =K15*G15 -> 126600
A16: Кондиционер кассетный | B16: FeRRUM | C16: LCAC36C3-AI/LCAU36U3-AI | D16: шт | E16: 10.55 | F16: 11.7 | G16: 1 | J16: 170900 | K16: =J16-J16*$K$9/100 -> 170900 | L16: =K16*G16 -> 170900
A17: Кондиционер кассетный | B17: FeRRUM | C17: LCAC48C3-AI/LCAU48U3-AI | D17: шт | E17: 14.07 | F17: 15.24 | G17: 1 | J17: 209100 | K17: =J17-J17*$K$9/100 -> 209100 | L17: =K17*G17 -> 209100
A18: Кондиционер кассетный | B18: FeRRUM | C18: LCAC60C3-AI/LCAU60U3-AI | D18: шт | E18: 16.12 | F18: 17.6 | G18: 1 | J18: 220300 | K18: =J18-J18*$K$9/100 -> 220300 | L18: =K18*G18 -> 220300
A19: Серия | C19: Сплит-система Канального типа ИНВЕРТОР R32 тепло/холод | L19: =K19*G19 -> 0
A20: Кондиционер канальный | B20: FeRRUM | C20: LCAD12D3-AI/LCAU12U3-AI | D20: шт | E20: 3.52 | F20: 4 | G20: 1 | J20: 98600 | K20: =J20-J20*$K$9/100 -> 98600 | L20: =K20*G20 -> 98600
A21: Кондиционер канальный | B21: FeRRUM | C21: LCAD18D3-AI/LCAU18U3-AI | D21: шт | E21: 5.3 | F21: 5.6 | G21: 1 | J21: 103600 | K21: =J21-J21*$K$9/100 -> 103600 | L21: =K21*G21 -> 103600
A22: Кондиционер канальный | B22: FeRRUM | C22: LCAD24D3-AI/LCAU24U3-AI | D22: шт | E22: 7.03 | F22: 7.6 | G22: 1 | J22: 125800 | K22: =J22-J22*$K$9/100 -> 125800 | L22: =K22*G22 -> 125800
A23: Кондиционер канальный | B23: FeRRUM | C23: LCAD36D3-AI/LCAU36U3-AI | D23: шт | E23: 10.55 | F23: 11.7 | G23: 1 | J23: 182400 | K23: =J23-J23*$K$9/100 -> 182400 | L23: =K23*G23 -> 182400
A24: Кондиционер канальный | B24: FeRRUM | C24: LCAD48D3-AI/LCAU48U3-AI | D24: шт | E24: 14.07 | F24: 15.24 | G24: 1 | J24: 219400 | K24: =J24-J24*$K$9/100 -> 219400 | L24: =K24*G24 -> 219400
A25: Кондиционер канальный | B25: FeRRUM | C25: LCAD60D3-AI/LCAU60U3-AI | D25: шт | E25: 16.12 | F25: 17.6 | G25: 1 | J25: 239100 | K25: =J25-J25*$K$9/100 -> 239100 | L25: =K25*G25 -> 239100
A26: Серия | C26: Высоконапорные Сплит-система Канального типа ИНВЕРТОР R410 тепло/холод | L26: =K26*G26 -> 0
A27: Кондиционер канальный | B27: FeRRUM | C27: LCAD100HD3-AI/LCAU100U3-AI | D27: шт | E27: 28 | F27: 31 | G27: 1 | I27: по запросу | J27: 0 | K27: =J27-J27*$K$9/100 -> 0 | L27: =K27*G27 -> 0
A28: Серия | C28: Сплит-система Напольно-Потолочного типа ИНВЕРТОР R32 тепло/холод | L28: =K28*G28 -> 0
A29: Кондиционер потолочный | B29: FeRRUM | C29: LCACF18D3-AI/LCAU18U3-AI | D29: шт | E29: 5.3 | F29: 5.6 | G29: 1 | J29: 108600 | K29: =J29-J29*$K$9/100 -> 108600 | L29: =K29*G29 -> 108600
A30: Кондиционер потолочный | B30: FeRRUM | C30: LCACF24D3-AI/LCAU24U3-AI | D30: шт | E30: 7.03 | F30: 7.6 | G30: 1 | J30: 134600 | K30: =J30-J30*$K$9/100 -> 134600 | L30: =K30*G30 -> 134600
A31: Кондиционер потолочный | B31: FeRRUM | C31: LCACF36D3-AI/LCAU36U3-AI | D31: шт | E31: 10.55 | F31: 11.7 | G31: 1 | J31: 188900 | K31: =J31-J31*$K$9/100 -> 188900 | L31: =K31*G31 -> 188900
A32: Кондиционер потолочный | B32: FeRRUM | C32: LCACF48D3-AI/LCAU48U3-AI | D32: шт | E32: 14.07 | F32: 15.24 | G32: 1 | J32: 232900 | K32: =J32-J32*$K$9/100 -> 232900 | L32: =K32*G32 -> 232900
A33: Кондиционер потолочный | B33: FeRRUM | C33: LCACF60D3-AI/LCAU60U3-AI | D33: шт | E33: 16.12 | F33: 17.6 | G33: 1 | J33: 238100 | K33: =J33-J33*$K$9/100 -> 238100 | L33: =K33*G33 -> 238100
C34: Аксессуары | L34: =K34*G34 -> 0
A35: Проводной пульт управления для кассетных, напольно-потолочных и канальных конд | C35: SWC09A1-R | D35: шт | G35: 1 | J35: 10000 | K35: =J35-J35*$K$9/100 -> 10000 | L35: =K35*G35 -> 10000
A36: * Внимание!!! ОВИКОМ оставляет за собой право вносить изменение в данный прайс без уведомления клиента!!!
A38: Контактные координаты: Центр Инженерных Решений "ОВИКОМ" г.Пятигорск, Черкесское шоссе, д.27Б 8(938)-653-11-11 отдел продаж e-mail: ovikom26@gmail.com сайт: www.ovikom26.ru

Sheet FeRRUM Мульти-Спли инвертор
I8: Доллар | J8: Евро | K8: Скидка
C9: В Исходный прайс | I9: =Исходный!G10 -> 0 | J9: =Исходный!H10 -> 0 | K9: =Исходный!I10 -> 0
A10: Наименование | B10: Марка | C10: Модель | E10: Хар-ки | G10: Кол-во | H10: Розница | K10: Со скидкой | L10: Итого Рубли
D11: Ед. изм. | E11: Холод | F11: Тепло | H11: ДОЛЛАР | I11: ЕВРО | J11: РУБЛИ | K11: Рубли
A12: Серия FORCE Inverter | C12: Рабочий хладагент R32, класс энергоэффективности А++ | L12: =K12*G12 -> 0
A13: Наружный Блок | B13: FeRRUM | C13: iFOS14FM1A/2 | D13: шт | E13: 4.1 | F13: 4.4 | G13: 1 | J13: 93500 | K13: =J13-J13*$K$9/100 -> 93500 | L13: =K13*G13 -> 93500
A14: Наружный Блок | B14: FeRRUM | C14: iFOS18FM1A/2 | D14: шт | E14: 5.27 | F14: 5.57 | G14: 1 | J14: 99300 | K14: =J14-J14*$K$9/100 -> 99300 | L14: =K14*G14 -> 99300
A15: Наружный Блок | B15: FeRRUM | C15: iFOS24FM1A/3 | D15: шт | E15: 6.15 | F15: 6.45 | G15: 1 | J15: 128300 | K15: =J15-J15*$K$9/100 -> 128300 | L15: =K15*G15 -> 128300
A16: Наружный Блок | B16: FeRRUM | C16: iFOS36FM1A/4 | D16: шт | E16: 10.55 | F16: 10.55 | G16: 1 | J16: 250600 | K16: =J16-J16*$K$9/100 -> 250600 | L16: =K16*G16 -> 250600
A17: Наружный Блок | B17: FeRRUM | C17: iFOS42FM1A/5 | D17: шт | E17: 12.31 | F17: 12.31 | G17: 1 | J17: 267400 | K17: =J17-J17*$K$9/100 -> 267400 | L17: =K17*G17 -> 267400
A18: Серия FORCE Inverter | C18: Настенные внутренние Блоки инверторные R32 класс энегоэффективности А++ | L18: =K18*G18 -> 0
A19: Внутренний Блок настенный | B19: FeRRUM | C19: iFIS09F3C | D19: шт | E19: 2.64 | F19: 2.78 | G19: 1 | J19: 24300 | K19: =J19-J19*$K$9/100 -> 24300 | L19: =K19*G19 -> 24300
A20: Внутренний Блок настенный | B20: FeRRUM | C20: iFIS12F3C | D20: шт | E20: 3.52 | F20: 3.81 | G20: 1 | J20: 26000 | K20: =J20-J20*$K$9/100 -> 26000 | L20: =K20*G20 -> 26000
A21: Внутренний Блок настенный | B21: FeRRUM | C21: iFIS18F3C | D21: шт | E21: 5.27 | F21: 5.57 | G21: 1 | J21: 33400 | K21: =J21-J21*$K$9/100 -> 33400 | L21: =K21*G21 -> 33400
A22: Внутренний Блок настенный | B22: FeRRUM | C22: iFIS24F3C | D22: шт | E22: 7.33 | F22: 7.33 | G22: 1 | J22: 42600 | K22: =J22-J22*$K$9/100 -> 42600 | L22: =K22*G22 -> 42600
A23: Серия FORCE PRO Inverter | C23: NEW Рабочий хладагент R32, класс энергоэффективности А++ | L23: =K23*G23 -> 0
A24: Наружный Блок | B24: FeRRUM | C24: FOS14F3_MR2_DC2 | D24: шт | E24: 4.1 | F24: 4.4 | G24: 1 | J24: 97500 | K24: =J24-J24*$K$9/100 -> 97500 | L24: =K24*G24 -> 97500
A25: Наружный Блок | B25: FeRRUM | C25: FOS18F3_MR2_DC2 | D25: шт | E25: 5.3 | F25: 5.6 | G25: 1 | J25: 103600 | K25: =J25-J25*$K$9/100 -> 103600 | L25: =K25*G25 -> 103600
A26: Наружный Блок | B26: FeRRUM | C26: FOS24F3_MR2_DC3 | D26: шт | E26: 6.2 | F26: 6.5 | G26: 1 | J26: 133600 | K26: =J26-J26*$K$9/100 -> 133600 | L26: =K26*G26 -> 133600
A27: Наружный Блок | B27: FeRRUM | C27: FOS27F3_MR2_DC3 | D27: шт | E27: 7.9 | F27: 8.2 | G27: 1 | J27: 148300 | K27: =J27-J27*$K$9/100 -> 148300 | L27: =K27*G27 -> 148300
A28: Наружный Блок | B28: FeRRUM | C28: FOS36F3_MR2_DC4 | D28: шт | E28: 10.6 | F28: 10.6 | G28: 1 | J28: 238000 | K28: =J28-J28*$K$9/100 -> 238000 | L28: =K28*G28 -> 238000
A29: Наружный Блок | B29: FeRRUM | C29: FOS42F3_MR2_DC5 | D29: шт | E29: 12.3 | F29: 12.3 | G29: 1 | J29: 253800 | K29: =J29-J29*$K$9/100 -> 253800 | L29: =K29*G29 -> 253800
A30: Серия FORCE PRO Inverter | C30: NEW Настенные внутренние Блоки инверторные R32 класс энегоэффективности А++ | L30: =K30*G30 -> 0
A31: Внутренний Блок настенный | B31: FeRRUM | C31: FIS07F3_MR2_DC | D31: шт | E31: 2.0527859 | F31: 2.3460411 | G31: 1 | J31: 24500 | K31: =J31-J31*$K$9/100 -> 24500 | L31: =K31*G31 -> 24500
A32: Внутренний Блок настенный | B32: FeRRUM | C32: FIS09F3_MR2_DC | D32: шт | E32: 2.6392962 | F32: 2.9325513 | G32: 1 | J32: 24800 | K32: =J32-J32*$K$9/100 -> 24800 | L32: =K32*G32 -> 24800
A33: Внутренний Блок настенный | B33: FeRRUM | C33: FIS12F3_MR2_DC | D33: шт | E33: 3.5190616 | F33: 3.8123167 | G33: 1 | J33: 26600 | K33: =J33-J33*$K$9/100 -> 26600 | L33: =K33*G33 -> 26600
A34: Внутренний Блок настенный | B34: FeRRUM | C34: FIS18F3_MR2_DC | D34: шт | E34: 5.2785924 | F34: 5.3958944 | G34: 1 | J34: 35500 | K34: =J34-J34*$K$9/100 -> 35500 | L34: =K34*G34 -> 35500
A35: Внутренний Блок настенный | B35: FeRRUM | C35: FIS24F3_MR2_DC | D35: шт | E35: 7.0381232 | F35: 7.3313783 | G35: 1 | J35: 43400 | K35: =J35-J35*$K$9/100 -> 43400 | L35: =K35*G35 -> 43400
A36: Аксессуары | C36: USB Wi-Fi модуль | L36: =K36*G36 -> 0
A37: USB Wi-Fi Адаптер для сплит-систем серии FORCE, FeRRUM | B37: Energolux | C37: SIW02A1 | D37: шт | G37: 1 | J37: 4800 | K37: =J37-J37*$K$9/100 -> 4800 | L37: =K37*G37 -> 4800
A38: * Внимание!!! ОВИКОМ оставляет за собой право вносить изменение в данный прайс без уведомления клиента!!!
A40: Контактные координаты: Центр Инженерных Решений "ОВИКОМ" г.Пятигорск, Черкесское шоссе, д.27Б 8(938)-653-11-11 отдел продаж e-mail: ovikom26@gmail.com сайт: www.ovikom26.ru

Sheet LORIOT
I8: Доллар | J8: Евро | K8: Скидка
C9: В Исходный прайс | I9: =Исходный!G10 -> 0 | J9: =Исходный!H10 -> 0 | K9: =Исходный!I10 -> 0
A10: Наименование | B10: Марка | C10: Модель | E10: Хар-ки | G10: Кол-во | H10: Розница | K10: Со скидкой | L10: Итого Рубли
D11: Ед. изм. | E11: Холод | F11: Тепло | H11: ДОЛЛАР | I11: ЕВРО | J11: РУБЛИ | K11: Рубли
A12: Серия | B12: Premier ON-OFF NEW2024 | C12: Фреон R410/ скоростей 7 / WI-FI Ready. Завод TCL | L12: =K12*G12 -> 0
A13: Кондиционер настенный | B13: LORIOT | C13: LAC-07TPR | D13: шт | E13: 2.2 | F13: 2.2 | G13: 1 | J13: 0 | K13: =J13-J13*$K$9/100 -> 0 | L13: =K13*G13 -> 0 | M13: нет
A14: Кондиционер настенный | B14: LORIOT | C14: LAC-09TPR | D14: шт | E14: 2.64 | F14: 2.78 | G14: 1 | J14: 38300 | K14: =J14-J14*$K$9/100 -> 38300 | L14: =K14*G14 -> 38300
A15: Кондиционер настенный | B15: LORIOT | C15: LAC-12TPR | D15: шт | E15: 3.52 | F15: 3.66 | G15: 1 | J15: 50800 | K15: =J15-J15*$K$9/100 -> 50800 | L15: =K15*G15 -> 50800
A16: Кондиционер настенный | B16: LORIOT | C16: LAC-18TPR | D16: шт | E16: 5.28 | F16: 5.42 | G16: 1 | J16: 0 | K16: =J16-J16*$K$9/100 -> 0 | L16: =K16*G16 -> 0 | M16: нет
A17: Кондиционер настенный | B17: LORIOT | C17: LAC-24TPR | D17: шт | E17: 7.33 | F17: 7.62 | G17: 1 | J17: 103100 | K17: =J17-J17*$K$9/100 -> 103100 | L17: =K17*G17 -> 103100
A18: * Внимание!!! ОВИКОМ оставляет за собой право вносить изменение в данный прайс без уведомления клиента!!!
A20: Контактные координаты: Центр Инженерных Решений "ОВИКОМ" г.Пятигорск, Черкесское шоссе, д.27Б 8(938)-653-11-11 отдел продаж e-mail: ovikom26@gmail.com сайт: www.ovikom26.ru

Sheet Energolux
I8: Доллар | J8: Евро | K8: Скидка
C9: В Исходный прайс | I9: =Исходный!G10 -> 0 | J9: =Исходный!H10 -> 0 | K9: =Исходный!I10 -> 0
A10: Наименование | B10: Марка | C10: Модель | E10: Хар-ки | G10: Кол-во | H10: Розница | K10: Со скидкой | L10: Итого Рубли
D11: Ед. изм. | E11: Холод | F11: Тепло | H11: ДОЛЛАР | I11: ЕВРО | J11: РУБЛИ | K11: Рубли
A12: Серия | B12: GLARUS | C12: Energolux GLARUS (R-32,On/Off) охлаждение-нагрев, класс A. Работает с Алисой Завод AUX | L12: =K12*G12 -> 0
A13: Кондиционер настенный | B13: Energolux | C13: ESAS07GL1_H/ESAU07GL1_H | D13: шт | E13: 2.4 | F13: 2.5 | G13: 1 | J13: 35200 | K13: =J13-J13*$K$9/100 -> 35200 | L13: =K13*G13 -> 35200 | M13: Рекомендован для МП
A14: Кондиционер настенный | B14: Energolux | C14: ESAS09GL1_H/ESAU09GL1_H | D14: шт | E14: 2.6 | F14: 2.6 | G14: 1 | J14: 38400 | K14: =J14-J14*$K$9/100 -> 38400 | L14: =K14*G14 -> 38400 | M14: Рекомендован для МП
A15: Кондиционер настенный | B15: Energolux | C15: ESAS12GL1_H/ESAU12GL1_H | D15: шт | E15: 3.4 | F15: 3.4 | G15: 1 | J15: 52300 | K15: =J15-J15*$K$9/100 -> 52300 | L15: =K15*G15 -> 52300 | M15: Рекомендован для МП
A16: Кондиционер настенный | B16: Energolux | C16: ESAS18GL1_H/ESAU18GL1_H | D16: шт | E16: 5.5 | F16: 5.7 | G16: 1 | J16: 87900 | K16: =J16-J16*$K$9/100 -> 87900 | L16: =K16*G16 -> 87900 | M16: Рекомендован для МП
A17: Кондиционер настенный | B17: Energolux | C17: ESAS24GL1_H/ESAU24GL1_H | D17: шт | E17: 7 | F17: 1.1 | G17: 1 | J17: 110500 | K17: =J17-J17*$K$9/100 -> 110500 | L17: =K17*G17 -> 110500 | M17: Рекомендован для МП
A18: Серия | B18: BASEL 3 | C18: Energolux BASEL (R-410,On/Off) охлаждение-нагрев, класс A. Завод AUX | L18: =K18*G18 -> 0
A19: Кондиционер настенный | B19: Energolux | C19: SAS12B3-A/SAU12B3-A | D19: шт | E19: 3.6 | F19: 3.7 | G19: 1 | J19: 44000 | K19: =J19-J19*$K$9/100 -> 44000 | L19: =K19*G19 -> 44000
A20: Серия (NEW) | B20: BASEL | C20: Energolux BASEL (R-410,On/Off) охлаждение-нагрев, класс A. Завод Hisense | L20: =K20*G20 -> 0
A21: Кондиционер настенный | B21: Energolux | C21: ESAS07B_A/ESAU07B_A | D21: шт | E21: 2.35 | F21: 2.45 | G21: 1 | J21: 32400 | K21: =J21-J21*$K$9/100 -> 32400 | L21: =K21*G21 -> 32400 | M21: Рекомендован для МП
A22: Кондиционер настенный | B22: Energolux | C22: ESAS09B_A/ESAU09B_A | D22: шт | E22: 2.68 | F22: 2.76 | G22: 1 | J22: 35600 | K22: =J22-J22*$K$9/100 -> 35600 | L22: =K22*G22 -> 35600 | M22: Рекомендован для МП
A23: Кондиционер настенный | B23: Energolux | C23: ESAS12B_A/ESAU12B_A | D23: шт | E23: 3.52 | F23: 3.6 | G23: 1 | J23: 48600 | K23: =J23-J23*$K$9/100 -> 48600 | L23: =K23*G23 -> 48600 | M23: Рекомендован для МП
A24: Кондиционер настенный | B24: Energolux | C24: ESAS18B_A/ESAU18B_A | D24: шт | E24: 5.3 | F24: 5.35 | G24: 1 | J24: 79200 | K24: =J24-J24*$K$9/100 -> 79200 | L24: =K24*G24 -> 79200 | M24: Рекомендован для МП
A25: Кондиционер настенный | B25: Energolux | C25: ESAS24B_A/ESAU24B_A | D25: шт | E25: 7 | F25: 7.2 | G25: 1 | J25: 102100 | K25: =J25-J25*$K$9/100 -> 102100 | L25: =K25*G25 -> 102100 | M25: Рекомендован для МП
A26: Кондиционер настенный | B26: Energolux | C26: ESAS36B_A/ESAU36B_A | D26: шт | E26: 9.7 | F26: 9.9 | G26: 1 | J26: 159000 | K26: =J26-J26*$K$9/100 -> 159000 | L26: =K26*G26 -> 159000 | M26: Рекомендован для МП
A27: Серия | B27: BASEL 4 | C27: Energolux BASEL (R-410,On/Off) охлаждение-нагрев, класс A. Завод AUX | L27: =K27*G27 -> 0
A28: Кондиционер настенный | B28: Energolux | C28: SAS07B4-A/SAU07B4-A | D28: шт | E28: 2.05 | F28: 2.15 | G28: 1 | J28: 31800 | K28: =J28-J28*$K$9/100 -> 31800 | L28: =K28*G28 -> 31800 | M28: Рекомендован для МП
A29: Кондиционер настенный | B29: Energolux | C29: SAS09B4-A/SAU09B4-A | D29: шт | E29: 2.68 | F29: 2.76 | G29: 1 | J29: 34900 | K29: =J29-J29*$K$9/100 -> 34900 | L29: =K29*G29 -> 34900 | M29: Рекомендован для МП
A30: Кондиционер настенный | B30: Energolux | C30: SAS12B4-A/SAU12B4-A | D30: шт | E30: 3.55 | F30: 3.65 | G30: 1 | J30: 48200 | K30: =J30-J30*$K$9/100 -> 48200 | L30: =K30*G30 -> 48200 | M30: Рекомендован для МП
A31: Кондиционер настенный | B31: Energolux | C31: SAS18B4-A/SAU18B4-A | D31: шт | E31: 5.25 | F31: 5.3 | G31: 1 | J31: 78300 | K31: =J31-J31*$K$9/100 -> 78300 | L31: =K31*G31 -> 78300 | M31: Рекомендован для МП
A32: Кондиционер настенный | B32: Energolux | C32: SAS24B4-A/SAU24B4-A | D32: шт | E32: 7 | F32: 7.2 | G32: 1 | J32: 102100 | K32: =J32-J32*$K$9/100 -> 102100 | L32: =K32*G32 -> 102100 | M32: Рекомендован для МП
A33: Кондиционер настенный | B33: Energolux | C33: SAS30B4-A/SAU30B4-A | D33: шт | E33: 7.9 | F33: 7.6 | G33: 1 | J33: 128600 | K33: =J33-J33*$K$9/100 -> 128600 | L33: =K33*G33 -> 128600 | M33: Рекомендован для МП
A34: Серия | B34: BASEL 5 | C34: Energolux BASEL 5 (R-410,On/Off) охлаждение-нагрев, класс A. Завод AUX | L34: =K34*G34 -> 0
A35: Кондиционер настенный | B35: Energolux | C35: SAS07B5-A/SAU07B5-A | D35: шт | E35: 2.35 | F35: 2.45 | G35: 1 | J35: 32600 | K35: =J35-J35*$K$9/100 -> 32600 | L35: =K35*G35 -> 32600 | M35: Рекомендован для МП
A36: Кондиционер настенный | B36: Energolux | C36: SAS09B5-A/SAU09B5-A | D36: шт | E36: 2.68 | F36: 2.76 | G36: 1 | J36: 35200 | K36: =J36-J36*$K$9/100 -> 35200 | L36: =K36*G36 -> 35200 | M36: Рекомендован для МП
A37: Кондиционер настенный | B37: Energolux | C37: SAS12B5-A/SAU12B5-A | D37: шт | E37: 3.52 | F37: 3.6 | G37: 1 | J37: 48100 | K37: =J37-J37*$K$9/100 -> 48100 | L37: =K37*G37 -> 48100 | M37: Рекомендован для МП
A38: Кондиционер настенный | B38: Energolux | C38: SAS18B5-A/SAU18B5-A | D38: шт | E38: 5.3 | F38: 5.35 | G38: 1 | J38: 78300 | K38: =J38-J38*$K$9/100 -> 78300 | L38: =K38*G38 -> 78300 | M38: Рекомендован для МП
A39: Кондиционер настенный | B39: Energolux | C39: SAS24B5-A/SAU24B5-A | D39: шт | E39: 7 | F39: 7.2 | G39: 1 | J39: 101000 | K39: =J39-J39*$K$9/100 -> 101000 | L39: =K39*G39 -> 101000 | M39: Рекомендован для МП
A40: Кондиционер настенный | B40: Energolux | C40: SAS30B5-A/SAU30B5-A | D40: шт | E40: 9.7 | F40: 9.9 | G40: 1 | J40: 157400 | K40: =J40-J40*$K$9/100 -> 157400 | L40: =K40*G40 -> 157400 | M40: Рекомендован для МП
A41: Серия | B41: LAUSANNE | C41: Energolux Lausanne (On/Off) охлаждение-нагрев R410, Класс А. Завод AUX | L41: =K41*G41 -> 0
A42: Кондиционер настенный | B42: Energolux | C42: SAS12L4-A/SAU12L4-A | D42: шт | E42: 3.55 | F42: 3.65 | G42: 1 | J42: 46500 | K42: =J42-J42*$K$9/100 -> 46500 | L42: =K42*G42 -> 46500
A43: Кондиционер настенный | B43: Energolux | C43: SAS18L4-A/SAU18L4-A | D43: шт | E43: 5.3 | F43: 5.4 | G43: 1 | J43: 74800 | K43: =J43-J43*$K$9/100 -> 74800 | L43: =K43*G43 -> 74800
A44: Кондиционер настенный | B44: Energolux | C44: SAS24L4-A/SAU24L4-A | D44: шт | E44: 7.05 | F44: 7.2 | G44: 1 | J44: 100900 | K44: =J44-J44*$K$9/100 -> 100900 | L44: =K44*G44 -> 100900
A45: Серия | B45: LAUSANNE | C45: Energolux Lausanne (On/Off) охлаждение-нагрев R32, Класс А. Завод Midea | L45: =K45*G45 -> 0
A46: Кондиционер настенный | B46: Energolux | C46: SAS07AR1-A/SAU07AR1-A | D46: шт | E46: 2.35 | F46: 2.35 | G46: 1 | J46: 33400 | K46: =J46-J46*$K$9/100 -> 33400 | L46: =K46*G46 -> 33400
A47: Кондиционер настенный | B47: Energolux | C47: SAS09AR1-A/SAU09AR1-A | D47: шт | E47: 2.64 | F47: 2.78 | G47: 1 | J47: 36100 | K47: =J47-J47*$K$9/100 -> 36100 | L47: =K47*G47 -> 36100
...

Sheet Energolux полупром
I8: Доллар | J8: Евро | K8: Скидка
C9: В Исходный прайс | I9: =Исходный!G10 -> 0 | J9: =Исходный!H10 -> 0 | K9: =Исходный!I10 -> 0
A10: Наименование | B10: Марка | C10: Модель | E10: Хар-ки | G10: Кол-во | H10: Розница | K10: Со скидкой | L10: Итого Рубли
D11: Ед. Изм. | E11: Холод | F11: Тепло | H11: ДОЛЛАР | I11: ЕВРО | J11: РУБЛИ | K11: Рубли
A12: Серия | B12: Кассетный | C12: Серия 6 Energolux (On/Off) охлаждение-нагрев R410. Завод AUX | L12: =K12*G12 -> 0
A13: Кондиционер кассетный | B13: ENERGOLUX | C13: SAC12C6-A/SAU12U6-A | D13: шт | E13: 3.52 | F13: 3.81 | G13: 1 | J13: 82600 | K13: =J13-J13*$K$9/100 -> 82600 | L13: =K13*G13 -> 82600
A14: Кондиционер кассетный | B14: ENERGOLUX | C14: SAC18C6-A/SAU18U6-A | D14: шт | E14: 5.28 | F14: 5.57 | G14: 1 | J14: 86600 | K14: =J14-J14*$K$9/100 -> 86600 | L14: =K14*G14 -> 86600
A15: Кондиционер кассетный | B15: ENERGOLUX | C15: SAC24C6-A/SAU24U6-A | D15: шт | E15: 7.03 | F15: 7.91 | G15: 1 | J15: 111800 | K15: =J15-J15*$K$9/100 -> 111800 | L15: =K15*G15 -> 111800
A16: Кондиционер кассетный | B16: ENERGOLUX | C16: SAC36C6-A/SAU36U6-A | D16: шт | E16: 10.55 | F16: 12.31 | G16: 1 | J16: 150800 | K16: =J16-J16*$K$9/100 -> 150800 | L16: =K16*G16 -> 150800
A17: Кондиционер кассетный | B17: ENERGOLUX | C17: SAC48C6-A/SAU48U6-A | D17: шт | E17: 14.07 | F17: 16.71 | G17: 1 | J17: 189800 | K17: =J17-J17*$K$9/100 -> 189800 | L17: =K17*G17 -> 189800
A18: Кондиционер кассетный | B18: ENERGOLUX | C18: SAC60C6-A/SAU60U6-A | D18: шт | E18: 16.12 | F18: 18.17 | G18: 1 | J18: 198000 | K18: =J18-J18*$K$9/100 -> 198000 | L18: =K18*G18 -> 198000
A19: Серия | B19: Кассетный | C19: Серия 7 Energolux (On/Off) охлаждение-нагрев R410. Завод AUX | L19: =K19*G19 -> 0
A20: Кондиционер кассетный | B20: ENERGOLUX | C20: ESAC12C7_AR1/ESAU12U7_AR1 | D20: шт | E20: 3.5 | F20: 4 | G20: 1 | J20: 83000 | K20: =J20-J20*$K$9/100 -> 83000 | L20: =K20*G20 -> 83000
A21: Кондиционер кассетный | B21: ENERGOLUX | C21: ESAC18C7_AR1/ESAU18U7_AR1 | D21: шт | E21: 5.2 | F21: 5.6 | G21: 1 | J21: 88100 | K21: =J21-J21*$K$9/100 -> 88100 | L21: =K21*G21 -> 88100
A22: Кондиционер кассетный | B22: ENERGOLUX | C22: ESAC24C7_AR1/ESAU24U7_AR1 | D22: шт | E22: 7 | F22: 7.4 | G22: 1 | J22: 116700 | K22: =J22-J22*$K$9/100 -> 116700 | L22: =K22*G22 -> 116700
A23: Кондиционер кассетный | B23: ENERGOLUX | C23: ESAC36C7_AR1/ESAU36U7_AR1 | D23: шт | E23: 10.6 | F23: 11.7 | G23: 1 | J23: 156700 | K23: =J23-J23*$K$9/100 -> 156700 | L23: =K23*G23 -> 156700
A24: Кондиционер кассетный | B24: ENERGOLUX | C24: ESAC48C7_AR1/ESAU48U7_AR1 | D24: шт | E24: 14.1 | F24: 15.2 | G24: 1 | J24: 190000 | K24: =J24-J24*$K$9/100 -> 190000 | L24: =K24*G24 -> 190000
A25: Кондиционер кассетный | B25: ENERGOLUX | C25: ESAC60C7_AR1/ESAU60U7_AR1 | D25: шт | E25: 16.1 | F25: 17.6 | G25: 1 | J25: 198600 | K25: =J25-J25*$K$9/100 -> 198600 | L25: =K25*G25 -> 198600
A26: Серия | B26: Канальный | C26: Серия 6 Energolux канального типа (R410a, тепло/холод, on/off) Завод AUX | L26: =K26*G26 -> 0
A27: Кондиционер канальный | B27: ENERGOLUX | C27: SAD18D6-A/SAU18U6-A | D27: шт | E27: 5.28 | F27: 5.57 | G27: 1 | J27: 83600 | K27: =J27-J27*$K$9/100 -> 83600 | L27: =K27*G27 -> 83600
A28: Кондиционер канальный | B28: ENERGOLUX | C28: SAD24D6-A/SAU24U6-A | D28: шт | E28: 7.03 | F28: 7.91 | G28: 1 | J28: 111600 | K28: =J28-J28*$K$9/100 -> 111600 | L28: =K28*G28 -> 111600
A29: Кондиционер канальный | B29: ENERGOLUX | C29: SAD36D6-A/SAU36U6-A | D29: шт | E29: 10.55 | F29: 12.31 | G29: 1 | J29: 153600 | K29: =J29-J29*$K$9/100 -> 153600 | L29: =K29*G29 -> 153600
A30: Кондиционер канальный | B30: ENERGOLUX | C30: SAD48D6-A/SAU48U6-A | D30: шт | E30: 14.07 | F30: 16.71 | G30: 1 | J30: 186000 | K30: =J30-J30*$K$9/100 -> 186000 | L30: =K30*G30 -> 186000
A31: Кондиционер канальный | B31: ENERGOLUX | C31: SAD60D6-A/SAU60U6-A | D31: шт | E31: 16.12 | F31: 18.17 | G31: 1 | J31: 200000 | K31: =J31-J31*$K$9/100 -> 200000 | L31: =K31*G31 -> 200000
A32: Серия | B32: Канальный | C32: Серия 7 Energolux канального типа (R410a, тепло/холод, on/off) Завод AUX | L32: =K32*G32 -> 0
A33: Кондиционер канальный | B33: ENERGOLUX | C33: ESAD18D7_AR1/ESAU18U7_AR1 | D33: шт | E33: 5.3 | F33: 5.6 | G33: 1 | J33: 85500 | K33: =J33-J33*$K$9/100 -> 85500 | L33: =K33*G33 -> 85500
A34: Кондиционер канальный | B34: ENERGOLUX | C34: ESAD24D7_AR1/ESAU24U7_AR1 | D34: шт | E34: 7 | F34: 7.4 | G34: 1 | J34: 115700 | K34: =J34-J34*$K$9/100 -> 115700 | L34: =K34*G34 -> 115700
A35: Кондиционер канальный | B35: ENERGOLUX | C35: ESAD36D7_AR1/ESAU36U7_AR1 | D35: шт | E35: 10.6 | F35: 11.7 | G35: 1 | J35: 157400 | K35: =J35-J35*$K$9/100 -> 157400 | L35: =K35*G35 -> 157400
A36: Кондиционер канальный | B36: ENERGOLUX | C36: ESAD48D7_AR1/ESAU48U7_AR1 | D36: шт | E36: 14.1 | F36: 15.3 | G36: 1 | J36: 191300 | K36: =J36-J36*$K$9/100 -> 191300 | L36: =K36*G36 -> 191300
A37: Кондиционер канальный | B37: ENERGOLUX | C37: ESAD60D7_AR1/ESAU60U7_AR1 | D37: шт | E37: 16.1 | F37: 17.6 | G37: 1 | J37: 205500 | K37: =J37-J37*$K$9/100 -> 205500 | L37: =K37*G37 -> 205500
A38: Кондиционер канальный | B38: ENERGOLUX | C38: ESAD60HD7_AR1/ESAU60U7_AR1 | D38: шт | E38: 17.6 | F38: 18.5 | G38: 1 | J38: 266400 | K38: =J38-J38*$K$9/100 -> 266400 | L38: =K38*G38 -> 266400
A39: Серия | B39: Канальный | C39: Energolux Высоконапорные канального типа (R410a, тепло/холод, on/off) Завод AUX | L39: =K39*G39 -> 0
A40: Кондиционер канальный | B40: ENERGOLUX | C40: SAD48HD6-A/SAU48U6-A | D40: шт | E40: 14.07 | F40: 16.71 | G40: 1 | J40: 214100 | K40: =J40-J40*$K$9/100 -> 214100 | L40: =K40*G40 -> 214100
A41: Кондиционер канальный | B41: ENERGOLUX | C41: SAD60HD6-A/SAU60U6-A | D41: шт | E41: 16.12 | F41: 18.17 | G41: 1 | J41: 229900 | K41: =J41-J41*$K$9/100 -> 229900 | L41: =K41*G41 -> 229900
A42: Серия | B42: Потолочный | C42: Серия 6 Energolux Напольно-потолочного типа , охлаждение-нагрев Завод AUX | L42: =K42*G42 -> 0
A43: Кондиционер потолочный | B43: ENERGOLUX | C43: SACF18D6-A/SAU18U6-A | D43: шт | E43: 5.57 | F43: 5.86 | G43: 1 | J43: 86200 | K43: =J43-J43*$K$9/100 -> 86200 | L43: =K43*G43 -> 86200
A44: Кондиционер потолочный | B44: ENERGOLUX | C44: SACF24D6-A/SAU24U6-A | D44: шт | E44: 7.03 | F44: 7.91 | G44: 1 | J44: 106800 | K44: =J44-J44*$K$9/100 -> 106800 | L44: =K44*G44 -> 106800
A45: Кондиционер потолочный | B45: ENERGOLUX | C45: SACF36D6-A/SAU36U6-A | D45: шт | E45: 10.55 | F45: 12.3 | G45: 1 | J45: 150400 | K45: =J45-J45*$K$9/100 -> 150400 | L45: =K45*G45 -> 150400
A46: Кондиционер потолочный | B46: ENERGOLUX | C46: SACF48D6-A/SAU48U6-A | D46: шт | E46: 14.1 | F46: 16.7 | G46: 1 | J46: 186000 | K46: =J46-J46*$K$9/100 -> 186000 | L46: =K46*G46 -> 186000
A47: Кондиционер потолочный | B47: ENERGOLUX | C47: SACF60D6-A/SAU60U6-A | D47: шт | E47: 16.12 | F47: 18.2 | G47: 1 | J47: 211400 | K47: =J47-J47*$K$9/100 -> 211400 | L47: =K47*G47 -> 211400
...

Sheet Energolux ИНверт. полупром
I8: Доллар | J8: Евро | K8: Скидка
C9: В Исходный прайс | I9: =Исходный!G10 -> 0 | J9: =Исходный!H10 -> 0 | K9: =Исходный!I10 -> 0
A10: Наименование | B10: Марка | C10: Модель | E10: Хар-ки | G10: Кол-во | H10: Розница | K10: Со скидкой | L10: Итого Рубли
D11: Ед. Изм. | E11: Холод | F11: Тепло | H11: ДОЛЛАР | I11: ЕВРО | J11: РУБЛИ | K11: Рубли
A12: Серия | B12: Кассетный | C12: Energolux Инвертор Кассетного Типа охлаждение-нагрев R32 Завод AUX | L12: =K12*G12 -> 0
A13: Кондиционер кассетный | B13: ENERGOLUX | C13: ESAC12C1_WF_AR2_DC/ESAU12U1_AR2_DC | D13: шт | E13: 3.52 | F13: 4 | G13: 1 | J13: 105600 | K13: =J13-J13*$K$9/100 -> 105600 | L13: =K13*G13 -> 105600
A14: Кондиционер кассетный | B14: ENERGOLUX | C14: ESAC18C1_WF_AR2_DC/ESAU18U1_AR2_DC | D14: шт | E14: 5.3 | F14: 5.6 | G14: 1 | J14: 120100 | K14: =J14-J14*$K$9/100 -> 120100 | L14: =K14*G14 -> 120100
A15: Кондиционер кассетный | B15: ENERGOLUX | C15: ESAC24C1_WF_AR2_DC/ESAU24U1_AR2_DC | D15: шт | E15: 7.1 | F15: 7.62 | G15: 1 | J15: 144400 | K15: =J15-J15*$K$9/100 -> 144400 | L15: =K15*G15 -> 144400
A16: Кондиционер кассетный | B16: ENERGOLUX | C16: ESAC36C1_WF_AR2_DC/ESAU36U1_AR2_DC | D16: шт | E16: 10.6 | F16: 11.8 | G16: 1 | J16: 194800 | K16: =J16-J16*$K$9/100 -> 194800 | L16: =K16*G16 -> 194800
A17: Кондиционер кассетный | B17: ENERGOLUX | C17: ESAC48C1_WF_AR2_DC/ESAU48U1_AR2_DC | D17: шт | E17: 14.1 | F17: 15.3 | G17: 1 | J17: 235400 | K17: =J17-J17*$K$9/100 -> 235400 | L17: =K17*G17 -> 235400
A18: Кондиционер кассетный | B18: ENERGOLUX | C18: ESAC60C1_WF_AR2_DC/ESAU60U1_AR2_DC | D18: шт | E18: 17 | F18: 18.5 | G18: 1 | J18: 243200 | K18: =J18-J18*$K$9/100 -> 243200 | L18: =K18*G18 -> 243200
A19: Серия | B19: Потолочный | C19: Energolux Инвертор Напольно-потолочного типа , охлаждение-нагрев R32 Завод AUX | L19: =K19*G19 -> 0
A20: Кондиционер потолочный | B20: ENERGOLUX | C20: ESACF18D1_WF_AR2_DC/ESAU18U1_AR2_DC | D20: шт | E20: 5.3 | F20: 5.6 | G20: 1 | J20: 109800 | K20: =J20-J20*$K$9/100 -> 109800 | L20: =K20*G20 -> 109800
A21: Кондиционер потолочный | B21: ENERGOLUX | C21: ESACF24D1_WF_AR2_DC/ESAU24U1_AR2_DC | D21: шт | E21: 7.1 | F21: 7.62 | G21: 1 | J21: 136000 | K21: =J21-J21*$K$9/100 -> 136000 | L21: =K21*G21 -> 136000
A22: Кондиционер потолочный | B22: ENERGOLUX | C22: ESACF36D1_WF_AR2_DC/ESAU36U1_AR2_DC | D22: шт | E22: 10.6 | F22: 11.8 | G22: 1 | J22: 190900 | K22: =J22-J22*$K$9/100 -> 190900 | L22: =K22*G22 -> 190900
A23: Кондиционер потолочный | B23: ENERGOLUX | C23: ESACF48D1_WF_AR2_DC/ESAU48U1_AR2_DC | D23: шт | E23: 14.1 | F23: 15.3 | G23: 1 | J23: 235400 | K23: =J23-J23*$K$9/100 -> 235400 | L23: =K23*G23 -> 235400
A24: Кондиционер потолочный | B24: ENERGOLUX | C24: ESACF60D1_WF_AR2_DC/ESAU60U1_AR2_DC | D24: шт | E24: 17 | F24: 18.5 | G24: 1 | J24: 240500 | K24: =J24-J24*$K$9/100 -> 240500 | L24: =K24*G24 -> 240500
A25: Серия | B25: Канальный | C25: Серия 6 Energolux канального типа (R410a, тепло/холод, on/off) Завод AUX | L25: =K25*G25 -> 0
A26: Кондиционер канальный | B26: ENERGOLUX | C26: ESAD12D1_WF_AR2_DC/ESAU12U1_AR2_DC | D26: шт | E26: 3.52 | F26: 4 | G26: 1 | J26: 100500 | K26: =J26-J26*$K$9/100 -> 100500 | L26: =K26*G26 -> 100500
A27: Кондиционер канальный | B27: ENERGOLUX | C27: ESAD18D1_WF_AR2_DC/ESAU18U1_AR2_DC | D27: шт | E27: 5.3 | F27: 5.6 | G27: 1 | J27: 105600 | K27: =J27-J27*$K$9/100 -> 105600 | L27: =K27*G27 -> 105600
A28: Кондиционер канальный | B28: ENERGOLUX | C28: ESAD24D1_WF_AR2_DC/ESAU24U1_AR2_DC | D28: шт | E28: 7.1 | F28: 7.62 | G28: 1 | J28: 116600 | K28: =J28-J28*$K$9/100 -> 116600 | L28: =K28*G28 -> 116600
A29: Кондиционер канальный | B29: ENERGOLUX | C29: ESAD36D1_WF_AR2_DC/ESAU36U1_AR2_DC | D29: шт | E29: 10.6 | F29: 11.8 | G29: 1 | J29: 186000 | K29: =J29-J29*$K$9/100 -> 186000 | L29: =K29*G29 -> 186000
A30: Кондиционер канальный | B30: ENERGOLUX | C30: ESAD48D1_WF_AR2_DC/ESAU48U1_AR2_DC | D30: шт | E30: 14.1 | F30: 15.3 | G30: 1 | J30: 201400 | K30: =J30-J30*$K$9/100 -> 201400 | L30: =K30*G30 -> 201400
